BEGIN:VCALENDAR
VERSION:2.0
PRODID:DPCALENDAR
CALSCALE:GREGORIAN
BEGIN:VTIMEZONE
TZID:Europe/Berlin
X-MICROSOFT-CDO-TZID:4
BEGIN:STANDARD
DTSTART:20251026T010000
TZOFFSETFROM:+0200
TZOFFSETTO:+0100
TZNAME:CET
END:STANDARD
BEGIN:STANDARD
DTSTART:20261025T010000
TZOFFSETFROM:+0200
TZOFFSETTO:+0100
TZNAME:CET
END:STANDARD
BEGIN:DAYLIGHT
DTSTART:20260329T010000
TZOFFSETFROM:+0100
TZOFFSETTO:+0200
TZNAME:CEST
END:DAYLIGHT
END:VTIMEZONE
X-WR-TIMEZONE:Europe/Berlin
BEGIN:VEVENT
DTSTART;VALUE=DATE:20230510
DTEND;VALUE=DATE:20230511
UID:4A5ACCE1-A9A4-472E-9FFC-0AB49A60EE47
SUMMARY:Brückentag - die Kita hat zu
CREATED:20231017T093052Z
DTSTAMP:20231017T093052Z
URL:https://www.kita-spielhaus.de/component/dpcalendar/event/11?calid=28
X-ACCESS:1
X-HITS:86
X-COLOR:f2ce3e
X-SHOW-END-TIME:1
END:VEVENT
BEGIN:VEVENT
DTSTART;TZID=Europe/Berlin:20230906T160000
DTEND;TZID=Europe/Berlin:20230906T190000
UID:7564F523-DA53-4EDA-B2F3-C703E4110BAE
SUMMARY:Elterncafé
CREATED:20230905T125924Z
DTSTAMP:20230905T125924Z
URL:https://www.kita-spielhaus.de/component/dpcalendar/event/1?calid=28
X-ACCESS:1
X-HITS:101
X-COLOR:f2ce3e
X-SHOW-END-TIME:1
END:VEVENT
BEGIN:VEVENT
DTSTART;TZID=Europe/Berlin:20230914T110000
DTEND;TZID=Europe/Berlin:20230914T133000
UID:3D6A104B-87B9-4E69-8F58-20B141C682CF
SUMMARY:Fest der Sinne / Herbstfest vormittags 
CREATED:20230905T134014Z
DTSTAMP:20230905T134014Z
URL:https://www.kita-spielhaus.de/component/dpcalendar/event/2?calid=28
X-ACCESS:1
X-HITS:108
X-COLOR:f2ce3e
X-SHOW-END-TIME:1
END:VEVENT
BEGIN:VEVENT
DTSTART;VALUE=DATE:20231002
DTEND;VALUE=DATE:20231003
UID:C91F5F77-4E5B-4B43-92A8-94B896F3554A
SUMMARY:Brückentag - die Kita hat zu
CREATED:20230905T134048Z
DTSTAMP:20230905T134048Z
URL:https://www.kita-spielhaus.de/component/dpcalendar/event/3?calid=28
X-ACCESS:1
X-HITS:104
X-COLOR:f2ce3e
X-SHOW-END-TIME:0
END:VEVENT
BEGIN:VEVENT
DTSTART;VALUE=DATE:20231030
DTEND;VALUE=DATE:20231031
UID:4DF9297D-865A-4B89-B683-AA9436100678
SUMMARY:Brückentag - die Kita hat zu 
CREATED:20230905T134133Z
DTSTAMP:20230905T134133Z
URL:https://www.kita-spielhaus.de/component/dpcalendar/event/4?calid=28
X-ACCESS:1
X-HITS:226
X-COLOR:f2ce3e
X-SHOW-END-TIME:0
END:VEVENT
BEGIN:VEVENT
DTSTART;TZID=Europe/Berlin:20231130T160000
DTEND;TZID=Europe/Berlin:20231130T180000
UID:5D1DBF6A-5946-4DE1-8820-78DCB30C5C77
SUMMARY:Weihnachtsmarkt & Basteln ab 15:00 mit Eltern 
CREATED:20230905T134155Z
DTSTAMP:20230905T134155Z
URL:https://www.kita-spielhaus.de/component/dpcalendar/event/5?calid=28
LAST-MODIFIED:20230905T135010Z
SEQUENCE:495
X-ACCESS:1
X-HITS:839
X-COLOR:f2ce3e
X-SHOW-END-TIME:1
END:VEVENT
BEGIN:VEVENT
DTSTART;VALUE=DATE:20231214
DTEND;VALUE=DATE:20231215
UID:2D191D6F-FCBC-4996-B88B-58D12FAAE423
SUMMARY:Kinderweihnachtsfeier vormittags
CREATED:20230905T134234Z
DTSTAMP:20230905T134234Z
URL:https://www.kita-spielhaus.de/component/dpcalendar/event/6?calid=28
X-ACCESS:1
X-HITS:743
X-COLOR:f2ce3e
X-SHOW-END-TIME:0
END:VEVENT
BEGIN:VEVENT
DTSTART;VALUE=DATE:20231221
DTEND;VALUE=DATE:20231222
UID:9CB00EB8-37EB-4B63-8DF6-2C6A75685DBE
SUMMARY:Teamfortbildungstag - die Kita hat zu 
CREATED:20230905T134305Z
DTSTAMP:20230905T134305Z
URL:https://www.kita-spielhaus.de/component/dpcalendar/event/7?calid=28
X-ACCESS:1
X-HITS:637
X-COLOR:f2ce3e
X-SHOW-END-TIME:1
END:VEVENT
BEGIN:VEVENT
DTSTART;VALUE=DATE:20231222
DTEND;VALUE=DATE:20240102
UID:789C28B3-A9DA-4458-88B0-116311B4DBA2
SUMMARY:Weihnachtsschließzeit 22.12.2023 - 01.01.2024
CREATED:20230905T134348Z
DTSTAMP:20230905T134348Z
URL:https://www.kita-spielhaus.de/component/dpcalendar/event/8?calid=28
X-ACCESS:1
X-HITS:399
X-COLOR:f2ce3e
X-SHOW-END-TIME:0
END:VEVENT
BEGIN:VEVENT
DTSTART;VALUE=DATE:20240213
DTEND;VALUE=DATE:20240214
UID:8707ADA0-8CD1-4734-B77B-4E1367DBCB1A
SUMMARY:Fasching
CREATED:20231017T092941Z
DTSTAMP:20231017T092941Z
URL:https://www.kita-spielhaus.de/component/dpcalendar/event/9?calid=28
LAST-MODIFIED:20231017T092958Z
SEQUENCE:17
X-ACCESS:1
X-HITS:800
X-COLOR:f2ce3e
X-SHOW-END-TIME:1
END:VEVENT
BEGIN:VEVENT
DTSTART;VALUE=DATE:20240321
DTEND;VALUE=DATE:20240322
UID:A4AF5168-FAD1-4A6F-B4DB-29085F545E77
SUMMARY:Osterfest
CREATED:20231017T093025Z
DTSTAMP:20231017T093025Z
URL:https://www.kita-spielhaus.de/component/dpcalendar/event/10?calid=28
LAST-MODIFIED:20231017T093117Z
SEQUENCE:52
X-ACCESS:1
X-HITS:1018
X-COLOR:f2ce3e
X-SHOW-END-TIME:1
END:VEVENT
BEGIN:VEVENT
DTSTART;VALUE=DATE:20240425
DTEND;VALUE=DATE:20240426
UID:53DD5A74-474D-4481-8562-2B809D4FB059
SUMMARY:Frühjahrsputz
CREATED:20240313T151748Z
DTSTAMP:20240313T151748Z
URL:https://www.kita-spielhaus.de/component/dpcalendar/event/33?calid=28
X-ACCESS:1
X-HITS:324
X-COLOR:f2ce3e
X-SHOW-END-TIME:0
END:VEVENT
BEGIN:VEVENT
DTSTART;TZID=Europe/Berlin:20240427T100000
DTEND;TZID=Europe/Berlin:20240427T140000
UID:C2E51657-3978-44D1-B300-50E03E5A14E2
SUMMARY:Flohmarkt - rund ums Kind
CREATED:20240319T102046Z
DTSTAMP:20240319T102046Z
URL:https://www.kita-spielhaus.de/component/dpcalendar/event/37?calid=28
X-ACCESS:1
X-HITS:639
X-COLOR:f2ce3e
X-SHOW-END-TIME:1
END:VEVENT
BEGIN:VEVENT
DTSTART;VALUE=DATE:20240508
DTEND;VALUE=DATE:20240509
UID:54B778E7-1036-49D6-87F7-C546B5F5CE79
SUMMARY:Die Fotografin kommt ins Spielhaus
CREATED:20240313T151844Z
DTSTAMP:20240313T151844Z
URL:https://www.kita-spielhaus.de/component/dpcalendar/event/34?calid=28
X-ACCESS:1
X-HITS:532
X-COLOR:f2ce3e
X-SHOW-END-TIME:0
END:VEVENT
BEGIN:VEVENT
DTSTART;VALUE=DATE:20240510
DTEND;VALUE=DATE:20240511
UID:E7762E66-1E57-4422-9FEC-44F1C648AB95
SUMMARY:Brückentag - die Kita hat zu
CREATED:20231017T093147Z
DTSTAMP:20231017T093147Z
URL:https://www.kita-spielhaus.de/component/dpcalendar/event/12?calid=28
X-ACCESS:1
X-HITS:1000
X-COLOR:f2ce3e
X-SHOW-END-TIME:1
END:VEVENT
BEGIN:VEVENT
DTSTART;VALUE=DATE:20240521
DTEND;VALUE=DATE:20240524
UID:0C63FCAD-469F-4DDB-B721-C1393F18C5AC
SUMMARY:Kitafahrt 21.05.-23.05.2024
CREATED:20231017T093227Z
DTSTAMP:20231017T093227Z
URL:https://www.kita-spielhaus.de/component/dpcalendar/event/13?calid=28
DESCRIPTION:Für Kinder, die nicht mitfahren bleibt die Kita geschlossen.
X-ALT-DESC;FMTTYPE=text/html:<p>Für Kinder, die nicht mitfahren bleibt die Kita geschlossen.</p>
X-ACCESS:1
X-HITS:953
X-COLOR:f2ce3e
X-SHOW-END-TIME:1
END:VEVENT
BEGIN:VEVENT
DTSTART;VALUE=DATE:20240524
DTEND;VALUE=DATE:20240525
UID:BDB44E8D-B304-47A8-BF02-BDF982512A1D
SUMMARY:Schließtag
CREATED:20231017T093325Z
DTSTAMP:20231017T093325Z
URL:https://www.kita-spielhaus.de/component/dpcalendar/event/14?calid=28
X-ACCESS:1
X-HITS:765
X-COLOR:f2ce3e
X-SHOW-END-TIME:1
END:VEVENT
BEGIN:VEVENT
DTSTART;VALUE=DATE:20240603
DTEND;VALUE=DATE:20240604
UID:27F455F5-8213-4803-A295-43AF357088E8
SUMMARY:Kinderfest zum Kindertag vormittags
CREATED:20231017T093338Z
DTSTAMP:20231017T093338Z
URL:https://www.kita-spielhaus.de/component/dpcalendar/event/15?calid=28
X-ACCESS:1
X-HITS:800
X-COLOR:f2ce3e
X-SHOW-END-TIME:1
END:VEVENT
BEGIN:VEVENT
DTSTART;TZID=Europe/Berlin:20240603T180000
DTEND;TZID=Europe/Berlin:20240603T190000
UID:66AE138D-0911-4F75-BB91-E07F1906746B
SUMMARY:jährliche Mitgliederversammlung
CREATED:20240313T151926Z
DTSTAMP:20240313T151926Z
URL:https://www.kita-spielhaus.de/component/dpcalendar/event/35?calid=28
LAST-MODIFIED:20240313T152032Z
SEQUENCE:66
X-ACCESS:1
X-HITS:466
X-COLOR:f2ce3e
X-SHOW-END-TIME:0
END:VEVENT
BEGIN:VEVENT
DTSTART;VALUE=DATE:20240605
DTEND;VALUE=DATE:20240606
UID:ED911228-DCA9-433D-8468-57D0AE8979D5
SUMMARY:Regenbogencup Bärchengruppe
CREATED:20231017T093400Z
DTSTAMP:20231017T093400Z
URL:https://www.kita-spielhaus.de/component/dpcalendar/event/16?calid=28
X-ACCESS:1
X-HITS:764
X-COLOR:f2ce3e
X-SHOW-END-TIME:1
END:VEVENT
BEGIN:VEVENT
DTSTART;VALUE=DATE:20240614
DTEND;VALUE=DATE:20240615
UID:B9CA0C6B-3D02-4B35-A5A7-72E116120B66
SUMMARY:Teamfortbildungstag - die Kita hat zu
CREATED:20231017T093418Z
DTSTAMP:20231017T093418Z
URL:https://www.kita-spielhaus.de/component/dpcalendar/event/17?calid=28
X-ACCESS:1
X-HITS:721
X-COLOR:f2ce3e
X-SHOW-END-TIME:1
END:VEVENT
BEGIN:VEVENT
DTSTART;VALUE=DATE:20240617
DTEND;VALUE=DATE:20240618
UID:18ACCB0D-FD8C-480D-90FF-A9B13A35B7A6
SUMMARY:Oma-Opa-Tag
CREATED:20231017T093450Z
DTSTAMP:20231017T093450Z
URL:https://www.kita-spielhaus.de/component/dpcalendar/event/18?calid=28
DESCRIPTION:Für alle Omis und Opis! Keine Eltern und Geschwisterkinder!
X-ALT-DESC;FMTTYPE=text/html:<p>Für alle Omis und Opis! Keine Eltern und Geschwisterkinder!</p>
X-ACCESS:1
X-HITS:988
X-COLOR:f2ce3e
X-SHOW-END-TIME:1
END:VEVENT
BEGIN:VEVENT
DTSTART;TZID=Europe/Berlin:20240626T180000
DTEND;TZID=Europe/Berlin:20240626T190000
UID:22589531-EF1E-4D7C-B16A-F541045DBD26
SUMMARY:1. Elternabend neue Bärchengruppe 18:00 Uhr
CREATED:20240605T094059Z
DTSTAMP:20240605T094059Z
URL:https://www.kita-spielhaus.de/component/dpcalendar/event/38?calid=28
LAST-MODIFIED:20240605T094226Z
SEQUENCE:87
X-ACCESS:1
X-HITS:328
X-COLOR:f2ce3e
X-SHOW-END-TIME:1
END:VEVENT
BEGIN:VEVENT
DTSTART;TZID=Europe/Berlin:20240705T180000
DTEND;TZID=Europe/Berlin:20240705T190000
UID:48C6BD98-DAE3-4B2D-9AEC-66EFEF8F55BF
SUMMARY:Vereinsfest zum 30. Geburtstag vom Elternverein
CREATED:20240313T152009Z
DTSTAMP:20240313T152009Z
URL:https://www.kita-spielhaus.de/component/dpcalendar/event/36?calid=28
X-ACCESS:1
X-HITS:482
X-COLOR:f2ce3e
X-SHOW-END-TIME:0
END:VEVENT
BEGIN:VEVENT
DTSTART;VALUE=DATE:20240711
DTEND;VALUE=DATE:20240712
UID:E811AC83-0B26-4FEA-8B0F-5E8C050D81B1
SUMMARY:Kennlernfest neue Bärchengruppe
CREATED:20231017T093507Z
DTSTAMP:20231017T093507Z
URL:https://www.kita-spielhaus.de/component/dpcalendar/event/19?calid=28
X-ACCESS:1
X-HITS:1021
X-COLOR:f2ce3e
X-SHOW-END-TIME:1
END:VEVENT
BEGIN:VEVENT
DTSTART;VALUE=DATE:20240729
DTEND;VALUE=DATE:20240803
UID:B6D632E7-0D1A-4E54-B3E3-C089B92C4F8A
SUMMARY:1. Notbetreuungswoche 29.07.-02.08.2024
CREATED:20231017T093539Z
DTSTAMP:20231017T093539Z
URL:https://www.kita-spielhaus.de/component/dpcalendar/event/20?calid=28
X-ACCESS:1
X-HITS:1021
X-COLOR:f2ce3e
X-SHOW-END-TIME:1
END:VEVENT
BEGIN:VEVENT
DTSTART;VALUE=DATE:20240805
DTEND;VALUE=DATE:20240806
UID:2CD0FAD0-DCEC-49CC-B505-7C35F137A64A
SUMMARY:Sommerschließzeit
CREATED:20231017T093614Z
DTSTAMP:20231017T093614Z
URL:https://www.kita-spielhaus.de/component/dpcalendar/event/21?calid=28
X-ACCESS:1
X-HITS:959
X-COLOR:f2ce3e
X-SHOW-END-TIME:1
END:VEVENT
BEGIN:VEVENT
DTSTART;VALUE=DATE:20240819
DTEND;VALUE=DATE:20240824
UID:C268BC7A-7AD6-405B-AB18-DECDAE6B520E
SUMMARY:2. Notbetreuungswoche
CREATED:20231017T093640Z
DTSTAMP:20231017T093640Z
URL:https://www.kita-spielhaus.de/component/dpcalendar/event/22?calid=28
X-ACCESS:1
X-HITS:1054
X-COLOR:f2ce3e
X-SHOW-END-TIME:1
END:VEVENT
BEGIN:VEVENT
DTSTART;VALUE=DATE:20240911
DTEND;VALUE=DATE:20240912
UID:9A81A197-180F-431F-AFBF-99C1589AF71C
SUMMARY:Elterncafé
CREATED:20231017T093701Z
DTSTAMP:20231017T093701Z
URL:https://www.kita-spielhaus.de/component/dpcalendar/event/23?calid=28
X-ACCESS:1
X-HITS:908
X-COLOR:f2ce3e
X-SHOW-END-TIME:1
END:VEVENT
BEGIN:VEVENT
DTSTART;VALUE=DATE:20240918
DTEND;VALUE=DATE:20240919
UID:73179B01-3C1D-485D-ADE6-6B9DDDADCCF8
SUMMARY:Bummi Olympiade Hummelchen
CREATED:20231017T093719Z
DTSTAMP:20231017T093719Z
URL:https://www.kita-spielhaus.de/component/dpcalendar/event/24?calid=28
X-ACCESS:1
X-HITS:1006
X-COLOR:f2ce3e
X-SHOW-END-TIME:1
END:VEVENT
BEGIN:VEVENT
DTSTART;VALUE=DATE:20240919
DTEND;VALUE=DATE:20240920
UID:51049DD8-8EE2-425B-94F0-82A575F3A620
SUMMARY:Fest der Sinne nachmittags mit Eltern
CREATED:20231017T093749Z
DTSTAMP:20231017T093749Z
URL:https://www.kita-spielhaus.de/component/dpcalendar/event/25?calid=28
X-ACCESS:1
X-HITS:960
X-COLOR:f2ce3e
X-SHOW-END-TIME:1
END:VEVENT
BEGIN:VEVENT
DTSTART;VALUE=DATE:20241004
DTEND;VALUE=DATE:20241005
UID:85E050D6-69AE-4B9E-B536-63F39086D2AE
SUMMARY:Brückentag - die Kita hat zu
CREATED:20231017T093821Z
DTSTAMP:20231017T093821Z
URL:https://www.kita-spielhaus.de/component/dpcalendar/event/26?calid=28
X-ACCESS:1
X-HITS:977
X-COLOR:f2ce3e
X-SHOW-END-TIME:1
END:VEVENT
BEGIN:VEVENT
DTSTART;VALUE=DATE:20241101
DTEND;VALUE=DATE:20241102
UID:56D07781-5392-4EA5-8F71-4E62E7DF2F40
SUMMARY:Brückentag - die Kita hat zu
CREATED:20231017T093900Z
DTSTAMP:20231017T093900Z
URL:https://www.kita-spielhaus.de/component/dpcalendar/event/27?calid=28
X-ACCESS:1
X-HITS:1000
X-COLOR:f2ce3e
X-SHOW-END-TIME:1
END:VEVENT
BEGIN:VEVENT
DTSTART;VALUE=DATE:20241111
DTEND;VALUE=DATE:20241112
UID:99907EC7-060F-46C2-B521-358AF6846B28
SUMMARY:Martinsfest nachmittags mit Eltern
CREATED:20231017T093919Z
DTSTAMP:20231017T093919Z
URL:https://www.kita-spielhaus.de/component/dpcalendar/event/28?calid=28
X-ACCESS:1
X-HITS:982
X-COLOR:f2ce3e
X-SHOW-END-TIME:1
END:VEVENT
BEGIN:VEVENT
DTSTART;VALUE=DATE:20241128
DTEND;VALUE=DATE:20241129
UID:AB41FACC-5B0E-4E67-A6B4-F96143061FC0
SUMMARY:Weihnachtsmarkt nachmittags mit Eltern
CREATED:20231017T093945Z
DTSTAMP:20231017T093945Z
URL:https://www.kita-spielhaus.de/component/dpcalendar/event/29?calid=28
X-ACCESS:1
X-HITS:960
X-COLOR:f2ce3e
X-SHOW-END-TIME:1
END:VEVENT
BEGIN:VEVENT
DTSTART;VALUE=DATE:20241212
DTEND;VALUE=DATE:20241213
UID:0F518EC7-2B27-46D3-B14F-3B08FAD1B398
SUMMARY:Kinderweihnachtsfeier vormittags
CREATED:20231017T094005Z
DTSTAMP:20231017T094005Z
URL:https://www.kita-spielhaus.de/component/dpcalendar/event/30?calid=28
X-ACCESS:1
X-HITS:886
X-COLOR:f2ce3e
X-SHOW-END-TIME:1
END:VEVENT
BEGIN:VEVENT
DTSTART;VALUE=DATE:20241220
DTEND;VALUE=DATE:20241221
UID:E1F432D2-2375-4876-B502-FCA98C2D37D5
SUMMARY:Teamfortbildungstag - die Kita hat zu
CREATED:20231017T094029Z
DTSTAMP:20231017T094029Z
URL:https://www.kita-spielhaus.de/component/dpcalendar/event/31?calid=28
X-ACCESS:1
X-HITS:957
X-COLOR:f2ce3e
X-SHOW-END-TIME:1
END:VEVENT
BEGIN:VEVENT
DTSTART;VALUE=DATE:20241223
DTEND;VALUE=DATE:20241224
UID:E5E30AB6-F381-4B57-9687-3223BEA59DB9
SUMMARY:Weihnachtsschließzeit
CREATED:20231017T094049Z
DTSTAMP:20231017T094049Z
URL:https://www.kita-spielhaus.de/component/dpcalendar/event/32?calid=28
X-ACCESS:1
X-HITS:840
X-COLOR:f2ce3e
X-SHOW-END-TIME:1
END:VEVENT
BEGIN:VEVENT
DTSTART;TZID=Europe/Berlin:20250304T140000
DTEND;TZID=Europe/Berlin:20250304T150000
UID:0A43F195-A6A3-43BF-AB6D-1FCD4B065EAC
SUMMARY:Fasching
CREATED:20241125T132831Z
DTSTAMP:20241125T132831Z
URL:https://www.kita-spielhaus.de/component/dpcalendar/event/39?calid=28
LAST-MODIFIED:20241125T132831Z
SEQUENCE:0
X-ACCESS:1
X-HITS:221
X-COLOR:f2ce3e
X-SHOW-END-TIME:0
END:VEVENT
BEGIN:VEVENT
DTSTART;TZID=Europe/Berlin:20250409T140000
DTEND;TZID=Europe/Berlin:20250409T150000
UID:C1358066-AEF7-444B-853C-185AF2CD2119
SUMMARY:Osterfest vormittags
CREATED:20241125T132910Z
DTSTAMP:20241125T132910Z
URL:https://www.kita-spielhaus.de/component/dpcalendar/event/40?calid=28
LAST-MODIFIED:20241125T133100Z
SEQUENCE:110
X-ACCESS:1
X-HITS:382
X-COLOR:f2ce3e
X-SHOW-END-TIME:0
END:VEVENT
BEGIN:VEVENT
DTSTART;TZID=Europe/Berlin:20250502T140000
DTEND;TZID=Europe/Berlin:20250502T150000
UID:25FCEB81-119C-411A-87DE-9AC2A8DC1898
SUMMARY:Brückentag - die Kita ist zu
CREATED:20241125T133554Z
DTSTAMP:20241125T133554Z
URL:https://www.kita-spielhaus.de/component/dpcalendar/event/44?calid=28
LAST-MODIFIED:20241125T133554Z
SEQUENCE:0
X-ACCESS:1
X-HITS:394
X-COLOR:f2ce3e
X-SHOW-END-TIME:0
END:VEVENT
BEGIN:VEVENT
DTSTART;TZID=Europe/Berlin:20250508T140000
DTEND;TZID=Europe/Berlin:20250508T150000
UID:6ACDC696-AAB6-4208-A3A6-167690757E59
SUMMARY:die Fotografin kommt ins Spielhaus
CREATED:20241125T133040Z
DTSTAMP:20241125T133040Z
URL:https://www.kita-spielhaus.de/component/dpcalendar/event/41?calid=28
LAST-MODIFIED:20241125T133040Z
SEQUENCE:0
X-ACCESS:1
X-HITS:286
X-COLOR:f2ce3e
X-SHOW-END-TIME:0
END:VEVENT
BEGIN:VEVENT
DTSTART;TZID=Europe/Berlin:20250515T140000
DTEND;TZID=Europe/Berlin:20250515T150000
UID:056DFF5E-FAC0-497E-A4EB-EFD7A64B1696
SUMMARY:Kita Kollaps Aktionstag
CREATED:20241125T133138Z
DTSTAMP:20241125T133138Z
URL:https://www.kita-spielhaus.de/component/dpcalendar/event/42?calid=28
LAST-MODIFIED:20241125T133138Z
SEQUENCE:0
X-ACCESS:1
X-HITS:356
X-COLOR:f2ce3e
X-SHOW-END-TIME:0
END:VEVENT
BEGIN:VEVENT
DTSTART;VALUE=DATE:20250526
DTEND;VALUE=DATE:20250529
UID:64BEC0E3-65B3-4940-8601-D907164CB2D2
SUMMARY:Kitafahrt 26.05.-28.05.2025
CREATED:20241125T133508Z
DTSTAMP:20241125T133508Z
URL:https://www.kita-spielhaus.de/component/dpcalendar/event/43?calid=28
DESCRIPTION:Die Kita ist in dieser Zeit geschlossen.
X-ALT-DESC;FMTTYPE=text/html:<p>Die Kita ist in dieser Zeit geschlossen.</p>
LAST-MODIFIED:20241125T143030Z
SEQUENCE:3322
X-ACCESS:1
X-HITS:311
X-COLOR:f2ce3e
X-SHOW-END-TIME:0
END:VEVENT
BEGIN:VEVENT
DTSTART;TZID=Europe/Berlin:20250530T140000
DTEND;TZID=Europe/Berlin:20250530T150000
UID:23C6AE72-6F0D-47BA-97B4-EE7C507B7D18
SUMMARY:Brückentag - die Kita ist zu
CREATED:20241125T133638Z
DTSTAMP:20241125T133638Z
URL:https://www.kita-spielhaus.de/component/dpcalendar/event/45?calid=28
LAST-MODIFIED:20241125T133710Z
SEQUENCE:32
X-ACCESS:1
X-HITS:280
X-COLOR:f2ce3e
X-SHOW-END-TIME:0
END:VEVENT
BEGIN:VEVENT
DTSTART;TZID=Europe/Berlin:20250605T150000
DTEND;TZID=Europe/Berlin:20250605T170000
UID:23A5656D-72A2-484E-870D-DA214C2AC6BA
SUMMARY:Kindertag / Kindersommerfest am Nachmittag mit Eltern
CREATED:20241125T134907Z
DTSTAMP:20241125T134907Z
URL:https://www.kita-spielhaus.de/component/dpcalendar/event/46?calid=28
LAST-MODIFIED:20250602T141919Z
SEQUENCE:16331412
X-ACCESS:1
X-HITS:240
X-COLOR:f2ce3e
X-SHOW-END-TIME:0
END:VEVENT
BEGIN:VEVENT
DTSTART;TZID=Europe/Berlin:20250623T144500
DTEND;TZID=Europe/Berlin:20250623T170000
UID:BEA3B93D-9B0D-46DC-8DA2-1017D27FDE86
SUMMARY:Oma-Opa-Tag 
CREATED:20241125T135043Z
DTSTAMP:20241125T135043Z
URL:https://www.kita-spielhaus.de/component/dpcalendar/event/47?calid=28
LAST-MODIFIED:20250602T141951Z
SEQUENCE:16331348
X-ACCESS:1
X-HITS:254
X-COLOR:f2ce3e
X-SHOW-END-TIME:0
END:VEVENT
BEGIN:VEVENT
DTSTART;VALUE=DATE:20250704
DTEND;VALUE=DATE:20250707
UID:CD5B8560-560F-4C70-8C71-13E85ED745D0
SUMMARY:Abschlussfahrt Hummelchengruppe 04.07.-06.07.2025
CREATED:20241125T135131Z
DTSTAMP:20241125T135131Z
URL:https://www.kita-spielhaus.de/component/dpcalendar/event/48?calid=28
LAST-MODIFIED:20250602T142042Z
SEQUENCE:16331351
X-ACCESS:1
X-HITS:255
X-COLOR:f2ce3e
X-SHOW-END-TIME:0
END:VEVENT
BEGIN:VEVENT
DTSTART;TZID=Europe/Berlin:20250804T150000
DTEND;TZID=Europe/Berlin:20250822T160000
UID:352D4134-E56E-4D03-9674-52E87C302088
SUMMARY:Sommerschließzeit 04.08.-22.08.2025
CREATED:20241125T142500Z
DTSTAMP:20241125T142500Z
URL:https://www.kita-spielhaus.de/component/dpcalendar/event/56?calid=28
LAST-MODIFIED:20241125T143124Z
SEQUENCE:384
X-ACCESS:1
X-HITS:336
X-COLOR:f2ce3e
X-SHOW-END-TIME:0
END:VEVENT
BEGIN:VEVENT
DTSTART;TZID=Europe/Berlin:20250910T140000
DTEND;TZID=Europe/Berlin:20250910T150000
UID:0F53DFC5-3A67-411B-BF46-6B526D3FF0D5
SUMMARY:Elterncafé nachmittags
CREATED:20241125T135231Z
DTSTAMP:20241125T135231Z
URL:https://www.kita-spielhaus.de/component/dpcalendar/event/49?calid=28
LAST-MODIFIED:20241125T135231Z
SEQUENCE:0
X-ACCESS:1
X-HITS:381
X-COLOR:f2ce3e
X-SHOW-END-TIME:0
END:VEVENT
BEGIN:VEVENT
DTSTART;VALUE=DATE:20250924
DTEND;VALUE=DATE:20250925
UID:6129756F-A62D-4A0E-AF82-7B41013E13CF
SUMMARY:Bummi-Olympiade Mäuschen 
CREATED:20241125T135343Z
DTSTAMP:20241125T135343Z
URL:https://www.kita-spielhaus.de/component/dpcalendar/event/50?calid=28
LAST-MODIFIED:20250602T142028Z
SEQUENCE:16331205
X-ACCESS:1
X-HITS:408
X-COLOR:f2ce3e
X-SHOW-END-TIME:0
END:VEVENT
BEGIN:VEVENT
DTSTART;VALUE=DATE:20251008
DTEND;VALUE=DATE:20251009
UID:19CD4848-CB53-45F5-B1D2-28A4A69F0C8D
SUMMARY:Fest der Sinne vormittags
CREATED:20241125T142002Z
DTSTAMP:20241125T142002Z
URL:https://www.kita-spielhaus.de/component/dpcalendar/event/51?calid=28
LAST-MODIFIED:20250602T142058Z
SEQUENCE:16329656
X-ACCESS:1
X-HITS:442
X-COLOR:f2ce3e
X-SHOW-END-TIME:0
END:VEVENT
BEGIN:VEVENT
DTSTART;TZID=Europe/Berlin:20251111T150000
DTEND;TZID=Europe/Berlin:20251111T160000
UID:45C47013-38FA-4F21-A8C9-D6C0C6DD5FE5
SUMMARY:Martinsfest nachmittags
CREATED:20241125T142041Z
DTSTAMP:20241125T142041Z
URL:https://www.kita-spielhaus.de/component/dpcalendar/event/59?calid=28
LAST-MODIFIED:20251030T114427Z
SEQUENCE:29280226
X-ACCESS:1
X-HITS:127
X-COLOR:f2ce3e
X-SHOW-END-TIME:0
END:VEVENT
BEGIN:VEVENT
DTSTART;VALUE=DATE:20251121
DTEND;VALUE=DATE:20251122
UID:7EE730D4-4C76-4578-A79E-7C146431AB63
SUMMARY:internationaler Vorlesetag
CREATED:20241125T142258Z
DTSTAMP:20241125T142258Z
URL:https://www.kita-spielhaus.de/component/dpcalendar/event/53?calid=28
LAST-MODIFIED:20250602T142117Z
SEQUENCE:16329499
X-ACCESS:1
X-HITS:514
X-COLOR:f2ce3e
X-SHOW-END-TIME:0
END:VEVENT
BEGIN:VEVENT
DTSTART;TZID=Europe/Berlin:20251127T150000
DTEND;TZID=Europe/Berlin:20251127T160000
UID:9FFB7A74-0045-4AC5-AE2E-E2C86DE7A016
SUMMARY:Weihnachtsmarkt nachmittags mit Eltern
CREATED:20241125T142346Z
DTSTAMP:20241125T142346Z
URL:https://www.kita-spielhaus.de/component/dpcalendar/event/54?calid=28
LAST-MODIFIED:20241125T142346Z
SEQUENCE:0
X-ACCESS:1
X-HITS:478
X-COLOR:f2ce3e
X-SHOW-END-TIME:0
END:VEVENT
BEGIN:VEVENT
DTSTART;VALUE=DATE:20251217
DTEND;VALUE=DATE:20251218
UID:FAEB92B9-67CA-4BFE-88B7-28852DCCF52A
SUMMARY:Kinderweihnachtsfeier vormittags
CREATED:20241125T142429Z
DTSTAMP:20241125T142429Z
URL:https://www.kita-spielhaus.de/component/dpcalendar/event/55?calid=28
LAST-MODIFIED:20250602T142147Z
SEQUENCE:16329438
X-ACCESS:1
X-HITS:439
X-COLOR:f2ce3e
X-SHOW-END-TIME:0
END:VEVENT
BEGIN:VEVENT
DTSTART;VALUE=DATE:20251222
DTEND;VALUE=DATE:20251223
UID:34B30343-EC40-4CBC-9998-7126A40AF598
SUMMARY:Teamfortbildungstag - die Kita hat zu
CREATED:20241125T142544Z
DTSTAMP:20241125T142544Z
URL:https://www.kita-spielhaus.de/component/dpcalendar/event/57?calid=28
LAST-MODIFIED:20250602T142132Z
SEQUENCE:16329348
X-ACCESS:1
X-HITS:479
X-COLOR:f2ce3e
X-SHOW-END-TIME:0
END:VEVENT
BEGIN:VEVENT
DTSTART;VALUE=DATE:20251223
DTEND;VALUE=DATE:20260103
UID:A77A1522-816A-4435-94A0-652ED5D7DBB1
SUMMARY:Weihnachtsschließzeit 23.12.2025 - 02.01.2026
CREATED:20241125T142634Z
DTSTAMP:20241125T142634Z
URL:https://www.kita-spielhaus.de/component/dpcalendar/event/58?calid=28
LAST-MODIFIED:20250602T142159Z
SEQUENCE:16329325
X-ACCESS:1
X-HITS:411
X-COLOR:f2ce3e
X-SHOW-END-TIME:0
END:VEVENT
BEGIN:VEVENT
DTSTART;VALUE=DATE:20260102
DTEND;VALUE=DATE:20260103
UID:452D8F84-02F1-4079-AB81-38CA300C5B40
SUMMARY:Brückentag - die Kita hat zu
CREATED:20251030T114859Z
DTSTAMP:20251030T114859Z
URL:https://www.kita-spielhaus.de/component/dpcalendar/event/65?calid=28
LAST-MODIFIED:20251030T114859Z
SEQUENCE:0
X-ACCESS:1
X-HITS:108
X-COLOR:f2ce3e
X-SHOW-END-TIME:0
END:VEVENT
BEGIN:VEVENT
DTSTART;VALUE=DATE:20260217
DTEND;VALUE=DATE:20260218
UID:773CEF8F-878B-440C-BA3F-9F0D09159A02
SUMMARY:Fasching vormittags
CREATED:20251030T115123Z
DTSTAMP:20251030T115123Z
URL:https://www.kita-spielhaus.de/component/dpcalendar/event/69?calid=28
LAST-MODIFIED:20251030T115123Z
SEQUENCE:0
X-ACCESS:1
X-HITS:199
X-COLOR:f2ce3e
X-SHOW-END-TIME:0
END:VEVENT
BEGIN:VEVENT
DTSTART;VALUE=DATE:20260325
DTEND;VALUE=DATE:20260326
UID:1F48591B-D0CF-4007-8D85-84CA77CA4DF1
SUMMARY:Osterfest vormittags
CREATED:20251030T115150Z
DTSTAMP:20251030T115150Z
URL:https://www.kita-spielhaus.de/component/dpcalendar/event/70?calid=28
LAST-MODIFIED:20251030T115150Z
SEQUENCE:0
X-ACCESS:1
X-HITS:284
X-COLOR:f2ce3e
X-SHOW-END-TIME:0
END:VEVENT
BEGIN:VEVENT
DTSTART;VALUE=DATE:20260423
DTEND;VALUE=DATE:20260424
UID:DDFEE5D1-E4F4-4C01-9EB8-3389F7E1273A
SUMMARY:Fotografin kommt ins Spielhaus
CREATED:20260120T132822Z
DTSTAMP:20260120T132822Z
URL:https://www.kita-spielhaus.de/component/dpcalendar/event/76?calid=28
LAST-MODIFIED:20260120T132822Z
SEQUENCE:0
X-ACCESS:1
X-HITS:225
X-COLOR:f2ce3e
X-SHOW-END-TIME:0
END:VEVENT
BEGIN:VEVENT
DTSTART;VALUE=DATE:20260511
DTEND;VALUE=DATE:20260514
UID:4AEB8721-A4A4-4DB7-B69D-96EDAE7552BF
SUMMARY:Kitafahrt
CREATED:20251030T114957Z
DTSTAMP:20251030T114957Z
URL:https://www.kita-spielhaus.de/component/dpcalendar/event/67?calid=28
LAST-MODIFIED:20251030T120348Z
SEQUENCE:831
X-ACCESS:1
X-HITS:299
X-COLOR:f2ce3e
X-SHOW-END-TIME:0
END:VEVENT
BEGIN:VEVENT
DTSTART;VALUE=DATE:20260515
DTEND;VALUE=DATE:20260516
UID:B08D9F71-D80E-46BF-B8C4-3D5D061E02B9
SUMMARY:Brückentag - die Kita hat zu
CREATED:20251030T114859Z
DTSTAMP:20251030T114859Z
URL:https://www.kita-spielhaus.de/component/dpcalendar/event/66?calid=28
LAST-MODIFIED:20251030T114931Z
SEQUENCE:32
X-ACCESS:1
X-HITS:203
X-COLOR:f2ce3e
X-SHOW-END-TIME:0
END:VEVENT
BEGIN:VEVENT
DTSTART;VALUE=DATE:20260601
DTEND;VALUE=DATE:20260602
UID:4D61A466-CA04-4578-BB6E-0B1108C86B76
SUMMARY:Wir feiern den Kindertag - vormittags
CREATED:20251030T120049Z
DTSTAMP:20251030T120049Z
URL:https://www.kita-spielhaus.de/component/dpcalendar/event/71?calid=28
LAST-MODIFIED:20251030T120049Z
SEQUENCE:0
X-ACCESS:1
X-HITS:168
X-COLOR:f2ce3e
X-SHOW-END-TIME:0
END:VEVENT
BEGIN:VEVENT
DTSTART;VALUE=DATE:20260619
DTEND;VALUE=DATE:20260622
UID:8DE3CC40-F8B0-49B5-A41C-5383E17C02FB
SUMMARY:Abschlussfahrt Mäuschengruppe
CREATED:20251030T120220Z
DTSTAMP:20251030T120220Z
URL:https://www.kita-spielhaus.de/component/dpcalendar/event/73?calid=28
LAST-MODIFIED:20251030T120220Z
SEQUENCE:0
X-ACCESS:1
X-HITS:157
X-COLOR:f2ce3e
X-SHOW-END-TIME:0
END:VEVENT
BEGIN:VEVENT
DTSTART;TZID=Europe/Berlin:20260622T150000
DTEND;TZID=Europe/Berlin:20260622T170000
UID:8A6859F7-74EE-4CBB-AAAC-023BAAAD06A0
SUMMARY:Oma-Opa-Tag nachmittags ab 15:00 Uhr
CREATED:20251030T120130Z
DTSTAMP:20251030T120130Z
URL:https://www.kita-spielhaus.de/component/dpcalendar/event/72?calid=28
LAST-MODIFIED:20251030T120448Z
SEQUENCE:198
X-ACCESS:1
X-HITS:188
X-COLOR:f2ce3e
X-SHOW-END-TIME:0
END:VEVENT
BEGIN:VEVENT
DTSTART;VALUE=DATE:20260803
DTEND;VALUE=DATE:20260822
UID:08AC5FFC-BAEE-4745-8103-3B53A415CE36
SUMMARY:Sommerschließzeit 03.08.2026-21.08.2026
CREATED:20251030T115044Z
DTSTAMP:20251030T115044Z
URL:https://www.kita-spielhaus.de/component/dpcalendar/event/68?calid=28
LAST-MODIFIED:20251030T115044Z
SEQUENCE:0
X-ACCESS:1
X-HITS:175
X-COLOR:f2ce3e
X-SHOW-END-TIME:0
END:VEVENT
BEGIN:VEVENT
DTSTART;TZID=Europe/Berlin:20260917T150000
DTEND;TZID=Europe/Berlin:20260917T170000
UID:83A2A9F2-941E-4C31-822F-62B39A597CDE
SUMMARY:Fest der Sinne nachmittags mit Eltern ab 15:00 Uhr
CREATED:20251030T120259Z
DTSTAMP:20251030T120259Z
URL:https://www.kita-spielhaus.de/component/dpcalendar/event/74?calid=28
LAST-MODIFIED:20251030T120736Z
SEQUENCE:277
X-ACCESS:1
X-HITS:167
X-COLOR:f2ce3e
X-SHOW-END-TIME:0
END:VEVENT
BEGIN:VEVENT
DTSTART;VALUE=DATE:20260930
DTEND;VALUE=DATE:20261001
UID:F90C02A8-F50E-4FD4-9344-AB39A4A1387F
SUMMARY:Elterncafé nachmittags ab 14:30
CREATED:20251030T120330Z
DTSTAMP:20251030T120330Z
URL:https://www.kita-spielhaus.de/component/dpcalendar/event/75?calid=28
LAST-MODIFIED:20251030T120631Z
SEQUENCE:181
X-ACCESS:1
X-HITS:161
X-COLOR:f2ce3e
X-SHOW-END-TIME:0
END:VEVENT
BEGIN:VEVENT
DTSTART;TZID=Europe/Berlin:20261111T150000
DTEND;TZID=Europe/Berlin:20261111T160000
UID:604D645A-636A-45F5-90CC-86ECC815EB89
SUMMARY:Martinsfest nachmittags mit Eltern ab 15:30
CREATED:20241125T142041Z
DTSTAMP:20241125T142041Z
URL:https://www.kita-spielhaus.de/component/dpcalendar/event/52?calid=28
LAST-MODIFIED:20251030T120804Z
SEQUENCE:29281643
X-ACCESS:1
X-HITS:643
X-COLOR:f2ce3e
X-SHOW-END-TIME:0
END:VEVENT
BEGIN:VEVENT
DTSTART;VALUE=DATE:20261120
DTEND;VALUE=DATE:20261121
UID:A2F88A3F-6935-40C7-B2D0-676EBA47BA9E
SUMMARY:internationaler Vorlesetag
CREATED:20241125T142258Z
DTSTAMP:20241125T142258Z
URL:https://www.kita-spielhaus.de/component/dpcalendar/event/60?calid=28
LAST-MODIFIED:20251030T114553Z
SEQUENCE:29280175
X-ACCESS:1
X-HITS:168
X-COLOR:f2ce3e
X-SHOW-END-TIME:0
END:VEVENT
BEGIN:VEVENT
DTSTART;TZID=Europe/Berlin:20261125T150000
DTEND;TZID=Europe/Berlin:20261125T160000
UID:18330A95-AD36-43CF-9AC2-DE3D12DB26CA
SUMMARY:Weihnachtsmarkt nachmittags mit Eltern ab 15:00
CREATED:20241125T142346Z
DTSTAMP:20241125T142346Z
URL:https://www.kita-spielhaus.de/component/dpcalendar/event/61?calid=28
LAST-MODIFIED:20251030T120712Z
SEQUENCE:29281406
X-ACCESS:1
X-HITS:161
X-COLOR:f2ce3e
X-SHOW-END-TIME:0
END:VEVENT
BEGIN:VEVENT
DTSTART;VALUE=DATE:20261216
DTEND;VALUE=DATE:20261217
UID:8237D402-457B-410A-9A37-75D9B4808C0A
SUMMARY:Kinderweihnachtsfeier vormittags
CREATED:20241125T142429Z
DTSTAMP:20241125T142429Z
URL:https://www.kita-spielhaus.de/component/dpcalendar/event/62?calid=28
LAST-MODIFIED:20251030T114709Z
SEQUENCE:29280160
X-ACCESS:1
X-HITS:151
X-COLOR:f2ce3e
X-SHOW-END-TIME:0
END:VEVENT
BEGIN:VEVENT
DTSTART;VALUE=DATE:20261222
DTEND;VALUE=DATE:20261223
UID:B7353D16-6050-4D19-8A6F-60BE52CB4FED
SUMMARY:Teamfortbildungstag - die Kita hat zu
CREATED:20241125T142544Z
DTSTAMP:20241125T142544Z
URL:https://www.kita-spielhaus.de/component/dpcalendar/event/63?calid=28
LAST-MODIFIED:20251030T114742Z
SEQUENCE:29280118
X-ACCESS:1
X-HITS:153
X-COLOR:f2ce3e
X-SHOW-END-TIME:0
END:VEVENT
BEGIN:VEVENT
DTSTART;VALUE=DATE:20261223
DTEND;VALUE=DATE:20270101
UID:F5D9518F-8525-41FF-B27F-29D0F02CCB38
SUMMARY:Weihnachtsschließzeit 23.12.2026 - 31.12.2026
CREATED:20241125T142634Z
DTSTAMP:20241125T142634Z
URL:https://www.kita-spielhaus.de/component/dpcalendar/event/64?calid=28
LAST-MODIFIED:20251030T114824Z
SEQUENCE:29280110
X-ACCESS:1
X-HITS:157
X-COLOR:f2ce3e
X-SHOW-END-TIME:0
END:VEVENT
END:VCALENDAR